OziExplorer Map Data File Version 2.2
U40-34-35-36.jpg
Y:\ozi_map\work_map\2\3&4\u40-34-35-36.jpg
1 ,Map Code,
Pulkovo 1942 (2),, 0.0000, 0.0000,WGS 84
Reserved 1
Reserved 2
Magnetic Variation,,,E
Map Projection,Transverse Mercator,PolyCal,No,AutoCalOnly,No,BSBUseWPX,No
Point01,xy, 206, 225,in, deg, 80, 40,N, 57, 0,E, grid, , , ,N
Point02,xy, 1810, 234,in, deg, 80, 40,N, 58, 30,E, grid, , , ,N
Point03,xy, 3416, 205,in, deg, 80, 40,N, 60, 0,E, grid, , , ,N
Point04,xy, 161, 2429,in, deg, 80, 20,N, 57, 0,E, grid, , , ,N
Point05,xy, 1822, 2439,in, deg, 80, 20,N, 58, 30,E, grid, , , ,N
Point06,xy, 3485, 2405,in, deg, 80, 20,N, 60, 0,E, grid, , , ,N
Point07,xy, 118, 4627,in, deg, 80, 0,N, 57, 0,E, grid, , , ,N
Point08,xy, 1835, 4640,in, deg, 80, 0,N, 58, 30,E, grid, , , ,N
Point09,xy, 3556, 4607,in, deg, 80, 0,N, 60, 0,E, grid, , , ,N
Point10,xy, , ,in, deg, , ,, , ,, grid, , , ,
Point11,xy, , ,in, deg, , ,, , ,, grid, , , ,
Point12,xy, , ,in, deg, , ,, , ,, grid, , , ,
Point13,xy, , ,in, deg, , ,, , ,, grid, , , ,
Point14,xy, , ,in, deg, , ,, , ,, grid, , , ,
Point15,xy, , ,in, deg, , ,, , ,, grid, , , ,
Point16,xy, , ,in, deg, , ,, , ,, grid, , , ,
Point17,xy, , ,in, deg, , ,, , ,, grid, , , ,
Point18,xy, , ,in, deg, , ,, , ,, grid, , , ,
Point19,xy, , ,in, deg, , ,, , ,, grid, , , ,
Point20,xy, , ,in, deg, , ,, , ,, grid, , , ,
Point21,xy, , ,in, deg, , ,, , ,, grid, , , ,
Point22,xy, , ,in, deg, , ,, , ,, grid, , , ,
Point23,xy, , ,in, deg, , ,, , ,, grid, , , ,
Point24,xy, , ,in, deg, , ,, , ,, grid, , , ,
Point25,xy, , ,in, deg, , ,, , ,, grid, , , ,
Point26,xy, , ,in, deg, , ,, , ,, grid, , , ,
Point27,xy, , ,in, deg, , ,, , ,, grid, , , ,
Point28,xy, , ,in, deg, , ,, , ,, grid, , , ,
Point29,xy, , ,in, deg, , ,, , ,, grid, , , ,
Point30,xy, , ,in, deg, , ,, , ,, grid, , , ,
Projection Setup, 0.000000000, 57.000000000, 1.000000000, 500000.00, 0.00,,,,,
Map Feature = MF ; Map Comment = MC These follow if they exist
Track File = TF These follow if they exist
Moving Map Parameters = MM? These follow if they exist
MM0,Yes
MMPNUM,4
MMPXY,1,203,222
MMPXY,2,3418,203
MMPXY,3,3557,4609
MMPXY,4,117,4630
MMPLL,1, 56.997970, 80.667143
MMPLL,2, 60.002298, 80.666884
MMPLL,3, 60.001893, 79.999645
MMPLL,4, 56.999804, 79.999801
MM1B,16.913591
Other Grid Setup
GRGRID,Yes,4 Km,No,16711680,255,4 Km,0,16777215,8,1,Yes,No,No,x
MOP,Map Open Position,0,0
IWH,Map Image Width/Height,3664,4748
